Package: BSgenome Version: 1.74.0 Command: /Library/Frameworks/R.framework/Resources/bin/R CMD INSTALL BSgenome StartedAt: 2025-02-03 15:42:20 -0500 (Mon, 03 Feb 2025) EndedAt: 2025-02-03 15:43:58 -0500 (Mon, 03 Feb 2025) EllapsedTime: 97.9 seconds RetCode: 0 Status: OK