Package: BSgenome Version: 1.74.0 Command: rm -rf BSgenome.buildbin-libdir && mkdir BSgenome.buildbin-libdir && F:\biocbuild\bbs-3.20-bioc\R\bin\R.exe CMD INSTALL --build --library=BSgenome.buildbin-libdir BSgenome_1.74.0.tar.gz StartedAt: 2025-02-04 08:06:32 -0500 (Tue, 04 Feb 2025) EndedAt: 2025-02-04 08:08:34 -0500 (Tue, 04 Feb 2025) EllapsedTime: 122.7 seconds RetCode: 0 Status: OK PackageFile: BSgenome_1.74.0.zip PackageFileSize: 6.794 MiB