Package: BSgenome Version: 1.74.0 Command: /home/biocbuild/R/R/bin/R CMD build --keep-empty-dirs --no-resave-data BSgenome StartedAt: 2025-02-03 22:18:12 -0000 (Mon, 03 Feb 2025) EndedAt: 2025-02-03 22:19:58 -0000 (Mon, 03 Feb 2025) EllapsedTime: 106.0 seconds RetCode: 0 Status: OK PackageFile: BSgenome_1.74.0.tar.gz PackageFileSize: 5.62 MiB