Package: BSgenome Version: 1.74.0 Command: /home/biocbuild/R/R/bin/R CMD INSTALL BSgenome StartedAt: 2025-02-03 20:40:31 -0000 (Mon, 03 Feb 2025) EndedAt: 2025-02-03 20:41:23 -0000 (Mon, 03 Feb 2025) EllapsedTime: 51.9 seconds RetCode: 0 Status: OK