Package: BSgenomeForge Version: 1.6.0 Command: rm -rf BSgenomeForge.buildbin-libdir && mkdir BSgenomeForge.buildbin-libdir && /Users/biocbuild/BBS/utils/build-universal.sh BSgenomeForge_1.6.0.tar.gz /Library/Frameworks/R.framework/Resources/bin/R BSgenomeForge.buildbin-libdir StartedAt: 2025-02-05 15:03:23 -0500 (Wed, 05 Feb 2025) EndedAt: 2025-02-05 15:04:05 -0500 (Wed, 05 Feb 2025) EllapsedTime: 41.9 seconds RetCode: 0 Status: OK PackageFile: BSgenomeForge_1.6.0.tgz PackageFileSize: 808.9 KiB