Package: BSgenomeForge Version: 1.6.0 Command: /Library/Frameworks/R.framework/Resources/bin/R CMD build --keep-empty-dirs --no-resave-data BSgenomeForge StartedAt: 2025-02-03 17:34:14 -0500 (Mon, 03 Feb 2025) EndedAt: 2025-02-03 17:36:10 -0500 (Mon, 03 Feb 2025) EllapsedTime: 116.5 seconds RetCode: 0 Status: OK PackageFile: BSgenomeForge_1.6.0.tar.gz PackageFileSize: 693.6 KiB