##############################################################################
##############################################################################
###
### Running command:
###
###   /home/biocbuild/bbs-3.20-bioc/R/bin/R CMD build --keep-empty-dirs --no-resave-data --md5 BSgenomeForge
###
##############################################################################
##############################################################################


* checking for file ‘BSgenomeForge/DESCRIPTION’ ... OK
* preparing ‘BSgenomeForge’:
* checking DESCRIPTION meta-information ... OK
* installing the package to build vignettes
* creating vignettes ... OK
* checking for LF line-endings in source and make files and shell scripts
* checking for empty or unneeded directories
WARNING: directory ‘BSgenomeForge/inst/pkgtemplates/2bit_BSgenome_datapkg/inst/extdata’ is empty
WARNING: directory ‘BSgenomeForge/inst/pkgtemplates/BSgenome_datapkg/inst/extdata’ is empty
WARNING: directory ‘BSgenomeForge/inst/pkgtemplates/MaskedBSgenome_datapkg/inst/extdata’ is empty
* adding MD5 file
* building ‘BSgenomeForge_1.6.0.tar.gz’