Package: BUMHMM Version: 1.30.0 Command: rm -rf BUMHMM.buildbin-libdir && mkdir BUMHMM.buildbin-libdir && /Users/biocbuild/BBS/utils/build-universal.sh BUMHMM_1.30.0.tar.gz /Library/Frameworks/R.framework/Resources/bin/R BUMHMM.buildbin-libdir StartedAt: 2025-02-05 15:04:05 -0500 (Wed, 05 Feb 2025) EndedAt: 2025-02-05 15:04:39 -0500 (Wed, 05 Feb 2025) EllapsedTime: 33.8 seconds RetCode: 0 Status: OK PackageFile: BUMHMM_1.30.0.tgz PackageFileSize: 751.3 KiB