Package: BUMHMM Version: 1.30.0 Command: /Library/Frameworks/R.framework/Resources/bin/R CMD build --keep-empty-dirs --no-resave-data BUMHMM StartedAt: 2025-02-03 17:34:47 -0500 (Mon, 03 Feb 2025) EndedAt: 2025-02-03 17:36:20 -0500 (Mon, 03 Feb 2025) EllapsedTime: 93.0 seconds RetCode: 0 Status: OK PackageFile: BUMHMM_1.30.0.tar.gz PackageFileSize: 712.5 KiB