Package: BUMHMM Version: 1.30.0 Command: /home/biocbuild/bbs-3.20-bioc/R/bin/R CMD build --keep-empty-dirs --no-resave-data --md5 BUMHMM StartedAt: 2025-02-03 16:40:09 -0500 (Mon, 03 Feb 2025) EndedAt: 2025-02-03 16:40:48 -0500 (Mon, 03 Feb 2025) EllapsedTime: 39.0 seconds RetCode: 0 Status: OK PackageFile: BUMHMM_1.30.0.tar.gz PackageFileSize: 714.1 KiB