Package: BUMHMM Version: 1.30.0 Command: rm -rf BUMHMM.buildbin-libdir && mkdir BUMHMM.buildbin-libdir && F:\biocbuild\bbs-3.20-bioc\R\bin\R.exe CMD INSTALL --build --library=BUMHMM.buildbin-libdir BUMHMM_1.30.0.tar.gz StartedAt: 2025-02-04 08:06:43 -0500 (Tue, 04 Feb 2025) EndedAt: 2025-02-04 08:07:19 -0500 (Tue, 04 Feb 2025) EllapsedTime: 35.7 seconds RetCode: 0 Status: OK PackageFile: BUMHMM_1.30.0.zip PackageFileSize: 746.5 KiB