Package: BUMHMM Version: 1.30.0 Command: chmod a+r BUMHMM -R && F:\biocbuild\bbs-3.20-bioc\R\bin\R.exe CMD build --keep-empty-dirs --no-resave-data BUMHMM StartedAt: 2025-02-03 17:54:01 -0500 (Mon, 03 Feb 2025) EndedAt: 2025-02-03 17:55:01 -0500 (Mon, 03 Feb 2025) EllapsedTime: 60.3 seconds RetCode: 0 Status: OK PackageFile: BUMHMM_1.30.0.tar.gz PackageFileSize: 705.1 KiB