Package: BUMHMM Version: 1.30.0 Command: /home/biocbuild/R/R/bin/R CMD build --keep-empty-dirs --no-resave-data BUMHMM StartedAt: 2025-02-10 22:03:07 -0000 (Mon, 10 Feb 2025) EndedAt: 2025-02-10 22:03:56 -0000 (Mon, 10 Feb 2025) EllapsedTime: 49.0 seconds RetCode: 0 Status: OK PackageFile: BUMHMM_1.30.0.tar.gz PackageFileSize: 700.8 KiB