Package: BUScorrect Version: 1.24.0 Command: /Library/Frameworks/R.framework/Resources/bin/R CMD check --install=check:BUScorrect.install-out.txt --library=/Library/Frameworks/R.framework/Resources/library --no-vignettes --timings BUScorrect_1.24.0.tar.gz StartedAt: 2025-02-04 00:41:37 -0500 (Tue, 04 Feb 2025) EndedAt: 2025-02-04 00:48:14 -0500 (Tue, 04 Feb 2025) EllapsedTime: 396.6 seconds RetCode: 0 Status: OK CheckDir: BUScorrect.Rcheck Warnings: 0