Package: BUScorrect Version: 1.24.0 Command: /home/biocbuild/bbs-3.20-bioc/R/bin/R CMD check --install=check:BUScorrect.install-out.txt --library=/home/biocbuild/bbs-3.20-bioc/R/site-library --timings BUScorrect_1.24.0.tar.gz StartedAt: 2025-01-30 20:28:19 -0500 (Thu, 30 Jan 2025) EndedAt: 2025-01-30 20:32:33 -0500 (Thu, 30 Jan 2025) EllapsedTime: 254.2 seconds RetCode: 0 Status: OK CheckDir: BUScorrect.Rcheck Warnings: 0