Package: BUScorrect Version: 1.24.0 Command: /home/biocbuild/bbs-3.20-bioc/R/bin/R CMD INSTALL BUScorrect StartedAt: 2025-01-30 15:11:09 -0500 (Thu, 30 Jan 2025) EndedAt: 2025-01-30 15:11:28 -0500 (Thu, 30 Jan 2025) EllapsedTime: 19.2 seconds RetCode: 0 Status: OK