Package: BUScorrect Version: 1.24.0 Command: chmod a+r BUScorrect -R && F:\biocbuild\bbs-3.20-bioc\R\bin\R.exe CMD build --keep-empty-dirs --no-resave-data BUScorrect StartedAt: 2025-02-13 17:37:42 -0500 (Thu, 13 Feb 2025) EndedAt: 2025-02-13 17:40:35 -0500 (Thu, 13 Feb 2025) EllapsedTime: 172.4 seconds RetCode: 0 Status: OK PackageFile: BUScorrect_1.24.0.tar.gz PackageFileSize: 3.52 <A href="http://en.wikipedia.org/wiki/MiB" target="_blank">MiB</A>