Package: BUSpaRse Version: 1.20.0 Command: rm -rf BUSpaRse.buildbin-libdir && mkdir BUSpaRse.buildbin-libdir && F:\biocbuild\bbs-3.20-bioc\R\bin\R.exe CMD INSTALL --build --library=BUSpaRse.buildbin-libdir BUSpaRse_1.20.0.tar.gz StartedAt: 2025-02-04 08:06:53 -0500 (Tue, 04 Feb 2025) EndedAt: 2025-02-04 08:08:33 -0500 (Tue, 04 Feb 2025) EllapsedTime: 99.9 seconds RetCode: 0 Status: OK PackageFile: BUSpaRse_1.20.0.zip PackageFileSize: 1.123 MiB