Package: BUSseq Version: 1.12.0 Command: rm -rf BUSseq.buildbin-libdir && mkdir BUSseq.buildbin-libdir && /Users/biocbuild/BBS/utils/build-universal.sh BUSseq_1.12.0.tar.gz /Library/Frameworks/R.framework/Resources/bin/R BUSseq.buildbin-libdir StartedAt: 2025-02-04 12:35:05 -0500 (Tue, 04 Feb 2025) EndedAt: 2025-02-04 12:36:06 -0500 (Tue, 04 Feb 2025) EllapsedTime: 61.0 seconds RetCode: 0 Status: OK PackageFile: BUSseq_1.12.0.tgz PackageFileSize: 964.1 KiB