Package: BUSseq Version: 1.12.0 Command: F:\biocbuild\bbs-3.20-bioc\R\bin\R.exe CMD check --no-multiarch --install=check:BUSseq.install-out.txt --library=F:\biocbuild\bbs-3.20-bioc\R\library --no-vignettes --timings BUSseq_1.12.0.tar.gz StartedAt: 2025-02-03 23:53:53 -0500 (Mon, 03 Feb 2025) EndedAt: 2025-02-04 00:02:00 -0500 (Tue, 04 Feb 2025) EllapsedTime: 487.7 seconds RetCode: 0 Status: OK CheckDir: BUSseq.Rcheck Warnings: 0