Package: BaalChIP
Version: 1.32.0
Command: /Library/Frameworks/R.framework/Resources/bin/R CMD check --install=check:BaalChIP.install-out.txt --library=/Library/Frameworks/R.framework/Resources/library --no-vignettes --timings BaalChIP_1.32.0.tar.gz
StartedAt: 2024-11-19 19:37:15 -0500 (Tue, 19 Nov 2024)
EndedAt: 2024-11-19 19:48:40 -0500 (Tue, 19 Nov 2024)
EllapsedTime: 685.3 seconds
RetCode: 0
Status: WARNINGS
CheckDir: BaalChIP.Rcheck
Warnings: 1