Package: BaalChIP Version: 1.32.0 Command: rm -rf BaalChIP.buildbin-libdir && mkdir BaalChIP.buildbin-libdir && F:\biocbuild\bbs-3.20-bioc\R\bin\R.exe CMD INSTALL --build --library=BaalChIP.buildbin-libdir BaalChIP_1.32.0.tar.gz StartedAt: 2025-02-04 08:00:02 -0500 (Tue, 04 Feb 2025) EndedAt: 2025-02-04 08:01:46 -0500 (Tue, 04 Feb 2025) EllapsedTime: 103.4 seconds RetCode: 0 Status: OK PackageFile: BaalChIP_1.32.0.zip PackageFileSize: 99.46 MiB