Package: BaalChIP Version: 1.32.0 Command: chmod a+r BaalChIP -R && F:\biocbuild\bbs-3.20-bioc\R\bin\R.exe CMD build --keep-empty-dirs --no-resave-data BaalChIP StartedAt: 2025-02-03 17:35:21 -0500 (Mon, 03 Feb 2025) EndedAt: 2025-02-03 17:38:10 -0500 (Mon, 03 Feb 2025) EllapsedTime: 168.8 seconds RetCode: 0 Status: OK PackageFile: BaalChIP_1.32.0.tar.gz PackageFileSize: 44.75 MiB