Package: BaalChIP Version: 1.32.0 Command: F:\biocbuild\bbs-3.20-bioc\R\bin\R.exe CMD check --no-multiarch --install=check:BaalChIP.install-out.txt --library=F:\biocbuild\bbs-3.20-bioc\R\library --no-vignettes --timings BaalChIP_1.32.0.tar.gz StartedAt: 2025-02-03 23:15:51 -0500 (Mon, 03 Feb 2025) EndedAt: 2025-02-03 23:27:13 -0500 (Mon, 03 Feb 2025) EllapsedTime: 682.3 seconds RetCode: 0 Status: WARNINGS CheckDir: BaalChIP.Rcheck Warnings: 1