Package: BaalChIP Version: 1.32.0 Command: F:\biocbuild\bbs-3.20-bioc\R\bin\R.exe CMD INSTALL BaalChIP StartedAt: 2025-02-03 16:25:17 -0500 (Mon, 03 Feb 2025) EndedAt: 2025-02-03 16:27:04 -0500 (Mon, 03 Feb 2025) EllapsedTime: 106.7 seconds RetCode: 0 Status: OK