Package: BaalChIP Version: 1.32.0 Command: /home/biocbuild/R/R/bin/R CMD check --install=check:BaalChIP.install-out.txt --library=/home/biocbuild/R/R/site-library --no-vignettes --timings BaalChIP_1.32.0.tar.gz StartedAt: 2025-02-04 04:30:41 -0000 (Tue, 04 Feb 2025) EndedAt: 2025-02-04 04:48:59 -0000 (Tue, 04 Feb 2025) EllapsedTime: 1097.3 seconds RetCode: 0 Status: WARNINGS CheckDir: BaalChIP.Rcheck Warnings: 1