Package: BadRegionFinder Version: 1.34.0 Command: rm -rf BadRegionFinder.buildbin-libdir && mkdir BadRegionFinder.buildbin-libdir && /Users/biocbuild/BBS/utils/build-universal.sh BadRegionFinder_1.34.0.tar.gz /Library/Frameworks/R.framework/Resources/bin/R BadRegionFinder.buildbin-libdir StartedAt: 2025-02-05 14:52:04 -0500 (Wed, 05 Feb 2025) EndedAt: 2025-02-05 14:52:55 -0500 (Wed, 05 Feb 2025) EllapsedTime: 50.8 seconds RetCode: 0 Status: OK PackageFile: BadRegionFinder_1.34.0.tgz PackageFileSize: 927.2 KiB