Package: BadRegionFinder Version: 1.34.0 Command: /Library/Frameworks/R.framework/Resources/bin/R CMD build --keep-empty-dirs --no-resave-data BadRegionFinder StartedAt: 2025-01-30 19:09:36 -0500 (Thu, 30 Jan 2025) EndedAt: 2025-01-30 19:11:10 -0500 (Thu, 30 Jan 2025) EllapsedTime: 93.9 seconds RetCode: 0 Status: OK PackageFile: BadRegionFinder_1.34.0.tar.gz PackageFileSize: 832.9 KiB