Package: BadRegionFinder Version: 1.34.0 Command: /Library/Frameworks/R.framework/Resources/bin/R CMD check --install=check:BadRegionFinder.install-out.txt --library=/Library/Frameworks/R.framework/Resources/library --no-vignettes --timings BadRegionFinder_1.34.0.tar.gz StartedAt: 2024-11-08 20:39:45 -0500 (Fri, 08 Nov 2024) EndedAt: 2024-11-08 20:45:05 -0500 (Fri, 08 Nov 2024) EllapsedTime: 320.1 seconds RetCode: 0 Status: OK CheckDir: BadRegionFinder.Rcheck Warnings: 0