Package: BadRegionFinder Version: 1.34.0 Command: rm -rf BadRegionFinder.buildbin-libdir && mkdir BadRegionFinder.buildbin-libdir && /Users/biocbuild/BBS/utils/build-universal.sh BadRegionFinder_1.34.0.tar.gz /Library/Frameworks/R.framework/Resources/bin/R BadRegionFinder.buildbin-libdir StartedAt: 2025-01-31 12:21:21 -0500 (Fri, 31 Jan 2025) EndedAt: 2025-01-31 12:22:51 -0500 (Fri, 31 Jan 2025) EllapsedTime: 89.5 seconds RetCode: 0 Status: OK PackageFile: BadRegionFinder_1.34.0.tgz PackageFileSize: 927.1 KiB