Package: BadRegionFinder Version: 1.34.0 Command: /Library/Frameworks/R.framework/Resources/bin/R CMD build --keep-empty-dirs --no-resave-data BadRegionFinder StartedAt: 2025-02-03 17:09:47 -0500 (Mon, 03 Feb 2025) EndedAt: 2025-02-03 17:12:52 -0500 (Mon, 03 Feb 2025) EllapsedTime: 185.1 seconds RetCode: 0 Status: OK PackageFile: BadRegionFinder_1.34.0.tar.gz PackageFileSize: 833.2 KiB