Package: BadRegionFinder Version: 1.34.0 Command: /Library/Frameworks/R.framework/Resources/bin/R CMD INSTALL BadRegionFinder StartedAt: 2025-02-03 15:54:42 -0500 (Mon, 03 Feb 2025) EndedAt: 2025-02-03 15:56:08 -0500 (Mon, 03 Feb 2025) EllapsedTime: 85.7 seconds RetCode: 0 Status: OK