Package: BadRegionFinder Version: 1.33.0 Command: F:\biocbuild\bbs-3.20-bioc\R\bin\R.exe CMD check --no-multiarch --install=check:BadRegionFinder.install-out.txt --library=F:\biocbuild\bbs-3.20-bioc\R\library --no-vignettes --timings BadRegionFinder_1.33.0.tar.gz StartedAt: 2024-06-09 23:47:41 -0400 (Sun, 09 Jun 2024) EndedAt: 2024-06-09 23:55:13 -0400 (Sun, 09 Jun 2024) EllapsedTime: 452.1 seconds RetCode: 0 Status: OK CheckDir: BadRegionFinder.Rcheck Warnings: 0