Package: BadRegionFinder Version: 1.34.0 Command: rm -rf BadRegionFinder.buildbin-libdir && mkdir BadRegionFinder.buildbin-libdir && F:\biocbuild\bbs-3.20-bioc\R\bin\R.exe CMD INSTALL --build --library=BadRegionFinder.buildbin-libdir BadRegionFinder_1.34.0.tar.gz StartedAt: 2025-02-04 08:00:13 -0500 (Tue, 04 Feb 2025) EndedAt: 2025-02-04 08:01:04 -0500 (Tue, 04 Feb 2025) EllapsedTime: 51.1 seconds RetCode: 0 Status: OK PackageFile: BadRegionFinder_1.34.0.zip PackageFileSize: 813.6 KiB