Package: BadRegionFinder Version: 1.34.0 Command: chmod a+r BadRegionFinder -R && F:\biocbuild\bbs-3.20-bioc\R\bin\R.exe CMD build --keep-empty-dirs --no-resave-data BadRegionFinder StartedAt: 2025-02-03 17:35:36 -0500 (Mon, 03 Feb 2025) EndedAt: 2025-02-03 17:37:14 -0500 (Mon, 03 Feb 2025) EllapsedTime: 97.4 seconds RetCode: 0 Status: OK PackageFile: BadRegionFinder_1.34.0.tar.gz PackageFileSize: 714.3 KiB