Package: BadRegionFinder Version: 1.34.0 Command: F:\biocbuild\bbs-3.20-bioc\R\bin\R.exe CMD check --no-multiarch --install=check:BadRegionFinder.install-out.txt --library=F:\biocbuild\bbs-3.20-bioc\R\library --no-vignettes --timings BadRegionFinder_1.34.0.tar.gz StartedAt: 2025-02-03 23:16:19 -0500 (Mon, 03 Feb 2025) EndedAt: 2025-02-03 23:21:45 -0500 (Mon, 03 Feb 2025) EllapsedTime: 325.4 seconds RetCode: 0 Status: OK CheckDir: BadRegionFinder.Rcheck Warnings: 0