Package: BadRegionFinder Version: 1.34.0 Command: /home/biocbuild/R/R/bin/R CMD INSTALL BadRegionFinder StartedAt: 2025-02-03 20:49:56 -0000 (Mon, 03 Feb 2025) EndedAt: 2025-02-03 20:50:46 -0000 (Mon, 03 Feb 2025) EllapsedTime: 50.7 seconds RetCode: 0 Status: OK