Package: BadRegionFinder Version: 1.34.0 Command: /home/biocbuild/bbs-3.20-bioc/R/bin/R CMD build --keep-empty-dirs --no-resave-data BadRegionFinder StartedAt: 2024-11-19 17:34:36 -0500 (Tue, 19 Nov 2024) EndedAt: 2024-11-19 17:35:50 -0500 (Tue, 19 Nov 2024) EllapsedTime: 74.0 seconds RetCode: 0 Status: OK PackageFile: BadRegionFinder_1.34.0.tar.gz PackageFileSize: 833.1 KiB