Package: Banksy Version: 1.2.0 Command: /Library/Frameworks/R.framework/Resources/bin/R CMD check --install=check:Banksy.install-out.txt --library=/Library/Frameworks/R.framework/Resources/library --no-vignettes --timings Banksy_1.2.0.tar.gz StartedAt: 2025-02-11 11:47:46 -0500 (Tue, 11 Feb 2025) EndedAt: 2025-02-11 11:51:58 -0500 (Tue, 11 Feb 2025) EllapsedTime: 252.5 seconds RetCode: 0 Status: OK CheckDir: Banksy.Rcheck Warnings: 0