Package: Banksy Version: 1.2.0 Command: rm -rf Banksy.buildbin-libdir && mkdir Banksy.buildbin-libdir && /Users/biocbuild/BBS/utils/build-universal.sh Banksy_1.2.0.tar.gz /Library/Frameworks/R.framework/Resources/bin/R Banksy.buildbin-libdir StartedAt: 2025-02-04 12:29:39 -0500 (Tue, 04 Feb 2025) EndedAt: 2025-02-04 12:30:40 -0500 (Tue, 04 Feb 2025) EllapsedTime: 61.5 seconds RetCode: 0 Status: OK PackageFile: Banksy_1.2.0.tgz PackageFileSize: 4.242 MiB