Package: Banksy Version: 1.2.0 Command: /Library/Frameworks/R.framework/Resources/bin/R CMD INSTALL Banksy StartedAt: 2025-02-10 15:42:35 -0500 (Mon, 10 Feb 2025) EndedAt: 2025-02-10 15:43:35 -0500 (Mon, 10 Feb 2025) EllapsedTime: 59.4 seconds RetCode: 0 Status: OK