Package: Banksy Version: 1.2.0 Command: /home/biocbuild/R/R/bin/R CMD build --keep-empty-dirs --no-resave-data Banksy StartedAt: 2025-02-03 21:45:20 -0000 (Mon, 03 Feb 2025) EndedAt: 2025-02-03 22:25:21 -0000 (Mon, 03 Feb 2025) EllapsedTime: 2400.7 seconds RetCode: None Status: TIMEOUT PackageFile: None PackageFileSize: NA