Package: Banksy Version: 1.2.0 Command: /home/biocbuild/R/R/bin/R CMD INSTALL Banksy StartedAt: 2025-02-03 20:46:45 -0000 (Mon, 03 Feb 2025) EndedAt: 2025-02-03 20:47:16 -0000 (Mon, 03 Feb 2025) EllapsedTime: 31.2 seconds RetCode: 0 Status: OK