Package: Basic4Cseq Version: 1.42.0 Command: /Library/Frameworks/R.framework/Resources/bin/R CMD INSTALL Basic4Cseq StartedAt: 2025-02-03 16:05:32 -0500 (Mon, 03 Feb 2025) EndedAt: 2025-02-03 16:06:15 -0500 (Mon, 03 Feb 2025) EllapsedTime: 42.4 seconds RetCode: 0 Status: OK