Package: Basic4Cseq Version: 1.42.0 Command: /Library/Frameworks/R.framework/Resources/bin/R CMD check --install=check:Basic4Cseq.install-out.txt --library=/Library/Frameworks/R.framework/Resources/library --no-vignettes --timings Basic4Cseq_1.42.0.tar.gz StartedAt: 2025-02-03 23:58:33 -0500 (Mon, 03 Feb 2025) EndedAt: 2025-02-04 00:06:54 -0500 (Tue, 04 Feb 2025) EllapsedTime: 500.9 seconds RetCode: 0 Status: OK CheckDir: Basic4Cseq.Rcheck Warnings: 0