Package: Basic4Cseq Version: 1.42.0 Command: rm -rf Basic4Cseq.buildbin-libdir && mkdir Basic4Cseq.buildbin-libdir && F:\biocbuild\bbs-3.20-bioc\R\bin\R.exe CMD INSTALL --build --library=Basic4Cseq.buildbin-libdir Basic4Cseq_1.42.0.tar.gz StartedAt: 2025-02-04 08:00:39 -0500 (Tue, 04 Feb 2025) EndedAt: 2025-02-04 08:01:57 -0500 (Tue, 04 Feb 2025) EllapsedTime: 78.1 seconds RetCode: 0 Status: OK PackageFile: Basic4Cseq_1.42.0.zip PackageFileSize: 778.5 KiB