Package: Basic4Cseq
Version: 1.42.0
Command: /home/biocbuild/R/R/bin/R CMD check --install=check:Basic4Cseq.install-out.txt --library=/home/biocbuild/R/R/site-library --no-vignettes --timings Basic4Cseq_1.42.0.tar.gz
StartedAt: 2025-02-18 04:19:06 -0000 (Tue, 18 Feb 2025)
EndedAt: 2025-02-18 04:24:26 -0000 (Tue, 18 Feb 2025)
EllapsedTime: 320.5 seconds
RetCode: 0
Status: OK
CheckDir: Basic4Cseq.Rcheck
Warnings: 0