Package: Basic4Cseq Version: 1.42.0 Command: /home/biocbuild/R/R/bin/R CMD INSTALL Basic4Cseq StartedAt: 2025-02-03 20:44:16 -0000 (Mon, 03 Feb 2025) EndedAt: 2025-02-03 20:45:00 -0000 (Mon, 03 Feb 2025) EllapsedTime: 44.0 seconds RetCode: 0 Status: OK