Package: BasicSTARRseq Version: 1.34.0 Command: rm -rf BasicSTARRseq.buildbin-libdir && mkdir BasicSTARRseq.buildbin-libdir && /Users/biocbuild/BBS/utils/build-universal.sh BasicSTARRseq_1.34.0.tar.gz /Library/Frameworks/R.framework/Resources/bin/R BasicSTARRseq.buildbin-libdir StartedAt: 2025-02-01 13:58:35 -0500 (Sat, 01 Feb 2025) EndedAt: 2025-02-01 13:59:10 -0500 (Sat, 01 Feb 2025) EllapsedTime: 34.3 seconds RetCode: 0 Status: OK PackageFile: BasicSTARRseq_1.34.0.tgz PackageFileSize: 800.8 KiB