Package: BasicSTARRseq Version: 1.34.0 Command: rm -rf BasicSTARRseq.buildbin-libdir && mkdir BasicSTARRseq.buildbin-libdir && /Users/biocbuild/BBS/utils/build-universal.sh BasicSTARRseq_1.34.0.tar.gz /Library/Frameworks/R.framework/Resources/bin/R BasicSTARRseq.buildbin-libdir StartedAt: 2025-01-31 12:22:10 -0500 (Fri, 31 Jan 2025) EndedAt: 2025-01-31 12:23:09 -0500 (Fri, 31 Jan 2025) EllapsedTime: 59.7 seconds RetCode: 0 Status: OK PackageFile: BasicSTARRseq_1.34.0.tgz PackageFileSize: 800.8 KiB